BEGIN:VCALENDAR
VERSION:2.0
PRODID:-//Tukios.com/
BEGIN:VEVENT
UID:20a0430d-f818-4294-8e95-929a0d94799c@www.huntandson.com
DTSTAMP:20260420T222342Z
DTSTART:20260424T130000Z
DTEND:20260424T140000Z
SUMMARY:Funeral Service
DESCRIPTION:
URL:https://www.huntandson.com/obituaries/lois-zima
LOCATION:3351 Scenic Hwy 3351 Scenic Hwy  Pensacola FL 32503
GEO:30.452153;-87.1716026
END:VEVENT
END:VCALENDAR