BEGIN:VCALENDAR
VERSION:2.0
PRODID:-//Tukios.com/
BEGIN:VEVENT
UID:ad5d7d07-a88b-4395-8b05-7f77adc26d4b@www.huntandson.com
DTSTAMP:20260420T222029Z
DTSTART:20260427T150000Z
DTEND:20260427T160000Z
SUMMARY:Celebration of Life
DESCRIPTION:
URL:https://www.huntandson.com/obituaries/todd-crosby
LOCATION: 107 N. Grant Ave  Crawfordsville IN 47933
GEO:40.0420967;-86.9047213
END:VEVENT
END:VCALENDAR